BEGIN:VCALENDAR
VERSION:2.0
PRODID:-//Hammersmith Quilters Guild - ECPv6.15.20//NONSGML v1.0//EN
CALSCALE:GREGORIAN
METHOD:PUBLISH
X-WR-CALNAME:Hammersmith Quilters Guild
X-ORIGINAL-URL:https://hqgsaugus.org
X-WR-CALDESC:Events for Hammersmith Quilters Guild
REFRESH-INTERVAL;VALUE=DURATION:PT1H
X-Robots-Tag:noindex
X-PUBLISHED-TTL:PT1H
BEGIN:VTIMEZONE
TZID:America/New_York
BEGIN:DAYLIGHT
TZOFFSETFROM:-0500
TZOFFSETTO:-0400
TZNAME:EDT
DTSTART:20220313T070000
END:DAYLIGHT
BEGIN:STANDARD
TZOFFSETFROM:-0400
TZOFFSETTO:-0500
TZNAME:EST
DTSTART:20221106T060000
END:STANDARD
BEGIN:DAYLIGHT
TZOFFSETFROM:-0500
TZOFFSETTO:-0400
TZNAME:EDT
DTSTART:20230312T070000
END:DAYLIGHT
BEGIN:STANDARD
TZOFFSETFROM:-0400
TZOFFSETTO:-0500
TZNAME:EST
DTSTART:20231105T060000
END:STANDARD
BEGIN:DAYLIGHT
TZOFFSETFROM:-0500
TZOFFSETTO:-0400
TZNAME:EDT
DTSTART:20240310T070000
END:DAYLIGHT
BEGIN:STANDARD
TZOFFSETFROM:-0400
TZOFFSETTO:-0500
TZNAME:EST
DTSTART:20241103T060000
END:STANDARD
BEGIN:DAYLIGHT
TZOFFSETFROM:-0500
TZOFFSETTO:-0400
TZNAME:EDT
DTSTART:20250309T070000
END:DAYLIGHT
BEGIN:STANDARD
TZOFFSETFROM:-0400
TZOFFSETTO:-0500
TZNAME:EST
DTSTART:20251102T060000
END:STANDARD
END:VTIMEZONE
BEGIN:VTIMEZONE
TZID:UTC
BEGIN:STANDARD
TZOFFSETFROM:+0000
TZOFFSETTO:+0000
TZNAME:UTC
DTSTART:20220101T000000
END:STANDARD
END:VTIMEZONE
BEGIN:VEVENT
DTSTART;TZID=America/New_York:20231008T080000
DTEND;TZID=America/New_York:20240107T170000
DTSTAMP:20260425T153957
CREATED:20231008T190254Z
LAST-MODIFIED:20231008T190254Z
UID:1333-1696752000-1704646800@hqgsaugus.org
SUMMARY:The Wee Worlds of Salley Mavor
DESCRIPTION:Now – Jan 7\, 2024 \nThe Wee Worlds Of Salley Mavor \nSouthern Vermont Arts Center \nManchester VT \nDetails \nMy aim is to breathe life and emotion into embroidery\, an art form that is often perceived as purely decorative.—Salley Mavor
URL:https://hqgsaugus.org/index.php/event/the-wee-worlds-of-salley-mavor/
LOCATION:MA
END:VEVENT
BEGIN:VEVENT
DTSTART;TZID=UTC:20231008T080000
DTEND;TZID=UTC:20231008T170000
DTSTAMP:20260425T153957
CREATED:20231008T185458Z
LAST-MODIFIED:20231008T185458Z
UID:1327-1696752000-1696784400@hqgsaugus.org
SUMMARY:Cocheco Quilders Guild Quilt Show
DESCRIPTION:Oct 21 – 22\, 2023 \nCocheco Quilters Guild \n“Cocheco Village” Quilt Show \nJames Foley Memorial Ctr\, 150 Wakefield St \nRochester\, NH \nDetails
URL:https://hqgsaugus.org/index.php/event/cocheco-quilders-guild-quilt-show/
LOCATION:MA
END:VEVENT
BEGIN:VEVENT
DTSTART;TZID=America/New_York:20231004T190000
DTEND;TZID=America/New_York:20231004T203000
DTSTAMP:20260425T153957
CREATED:20230822T130138Z
LAST-MODIFIED:20230822T134255Z
UID:1196-1696446000-1696451400@hqgsaugus.org
SUMMARY:October Guild Meeting
DESCRIPTION:Monthly guild meeting. \nCreative Quilt Works:  Any Halloween themed item such as a trick or treat bag\, pot holder\, bookmark etc. Just do what you want and show how creative you can be! \nFat quarter:  Halloween \nDetails TBD.
URL:https://hqgsaugus.org/index.php/event/october-guild-meeting/
LOCATION:Saugus Senior Center\, 466 Central St\, Saugus\, MA\, 01906\, United States
END:VEVENT
BEGIN:VEVENT
DTSTART;TZID=America/New_York:20230927T181500
DTEND;TZID=America/New_York:20230927T201500
DTSTAMP:20260425T153957
CREATED:20230822T124452Z
LAST-MODIFIED:20230822T124452Z
UID:1170-1695838500-1695845700@hqgsaugus.org
SUMMARY:September Executive Board Meeting
DESCRIPTION:All member are invited to the Executive Board Meeting.
URL:https://hqgsaugus.org/index.php/event/september-executive-board-meeting/
LOCATION:Panera Bread\, 647 Broadway\, Saugus\, 01906
END:VEVENT
BEGIN:VEVENT
DTSTART;TZID=America/New_York:20230923T100000
DTEND;TZID=America/New_York:20230924T160000
DTSTAMP:20260425T153957
CREATED:20230505T193624Z
LAST-MODIFIED:20230505T195616Z
UID:1013-1695463200-1695571200@hqgsaugus.org
SUMMARY:Fall Harvest Festival Quilt Show - Taunton
DESCRIPTION:
URL:https://hqgsaugus.org/index.php/event/silver-springs-quilt-guild-quilt-show/
LOCATION:Friedman Middle School\, 500 Norton Ave\, Taunton\, MA\, 02780\, United States
END:VEVENT
BEGIN:VEVENT
DTSTART;TZID=America/New_York:20230906T190000
DTEND;TZID=America/New_York:20230906T203000
DTSTAMP:20260425T153957
CREATED:20230520T223336Z
LAST-MODIFIED:20230822T122124Z
UID:1063-1694026800-1694032200@hqgsaugus.org
SUMMARY:September Membership Meeting
DESCRIPTION:The first general membership meeting for the Guild year will be the first Wednesday of September.  Fat quarter color is black. \n 
URL:https://hqgsaugus.org/index.php/event/september-membership-meeting/
LOCATION:MA
END:VEVENT
BEGIN:VEVENT
DTSTART;TZID=America/New_York:20230816T183000
DTEND;TZID=America/New_York:20230816T193000
DTSTAMP:20260425T153957
CREATED:20230707T193322Z
LAST-MODIFIED:20230731T191038Z
UID:1140-1692210600-1692214200@hqgsaugus.org
SUMMARY:Executive Board Meeting
DESCRIPTION:All members are welcome to attend the meeting. \nNancy Plowman Associates \n30 Ray Avenue\nBurlington\, MA 01803\n781-710-9614 (cell)\n 
URL:https://hqgsaugus.org/index.php/event/executive-board-meeting-7/
LOCATION:Nancy Sandreuter’s Office\, 30 -32 Ray Avenue\, Burlington\, MA\, 01803\, United States
END:VEVENT
BEGIN:VEVENT
DTSTART;TZID=America/New_York:20230802T190000
DTEND;TZID=America/New_York:20230802T203000
DTSTAMP:20260425T153957
CREATED:20230520T223101Z
LAST-MODIFIED:20230704T134638Z
UID:1061-1691002800-1691008200@hqgsaugus.org
SUMMARY:Sit and Sew
DESCRIPTION:Members can join in sewing fellowship with other guild members at the Senior Center the first Wednesday of August. \nBring your hand or machine \nsewing\, socialize\, Baste a quilt\, etc.\nBYO goodies!\nThere is no formal meeting.
URL:https://hqgsaugus.org/index.php/event/sit-and-sew-2/
LOCATION:Saugus Senior Center\, 466 Central St\, Saugus\, MA\, 01906\, United States
END:VEVENT
BEGIN:VEVENT
DTSTART;TZID=America/New_York:20230712T180000
DTEND;TZID=America/New_York:20230712T193000
DTSTAMP:20260425T153957
CREATED:20230706T124632Z
LAST-MODIFIED:20230706T124632Z
UID:1132-1689184800-1689190200@hqgsaugus.org
SUMMARY:Executive Board Meeting
DESCRIPTION:All members invited to the Next Executive Board Meeting \, Saugus Public Library in the Fred Brooks meeting room.  6:00 – 7:30. \nProposed discussions for August Board Meeting  \n\n2023-2024 Guild Budget\nStatus of Quilts for the show\, Penny Baskets\, Vendors\, Boutique\, Credit Cards\nRaffle ticket lobby Sale Update Date at Quilters Common.\nUpdate on Charity Sit and Sew at Quilters Common.\nGetaway – Finalize details so we can start promoting in September.\n2023-2024 Calendar\nBOM – Pattern Plus kits?\nFat Quarter design/color– Schedule for the year\nCreative Quiltworks – schedule for the year – Need a “chair”?\nRefreshments schedule for the year or leave it up to MaryAnn to schedule?
URL:https://hqgsaugus.org/index.php/event/executive-board-meeting-6/
LOCATION:Saugus Public Library\, 295 Central Street\, Saugus\, MA\, 01906\, United States
END:VEVENT
BEGIN:VEVENT
DTSTART;TZID=America/New_York:20230705T190000
DTEND;TZID=America/New_York:20230705T203000
DTSTAMP:20260425T153957
CREATED:20230520T222853Z
LAST-MODIFIED:20230630T171510Z
UID:1059-1688583600-1688589000@hqgsaugus.org
SUMMARY:Sit and Sew
DESCRIPTION:Guild members can join in fellowship at the Senior Center during our regular first Wednesday of the month meeting time. \nBring your hand or machine \nsewing\, socialize\, baste a quilt\, etc.\nBYO goodies!\nThere is no formal meeting.
URL:https://hqgsaugus.org/index.php/event/sit-and-sew/
LOCATION:Saugus Senior Center\, 466 Central St\, Saugus\, MA\, 01906\, United States
END:VEVENT
BEGIN:VEVENT
DTSTART;TZID=America/New_York:20230621T180000
DTEND;TZID=America/New_York:20230621T200000
DTSTAMP:20260425T153957
CREATED:20230205T192622Z
LAST-MODIFIED:20230615T190857Z
UID:658-1687370400-1687377600@hqgsaugus.org
SUMMARY:Executive Board Meeting
DESCRIPTION:The Executive Board meets via ZOOM.  All Guild members are invited.
URL:https://hqgsaugus.org/index.php/event/executive-board-meeting-5/
LOCATION:Zoom
END:VEVENT
BEGIN:VEVENT
DTSTART;TZID=America/New_York:20230607T190000
DTEND;TZID=America/New_York:20230607T203000
DTSTAMP:20260425T153957
CREATED:20230205T193358Z
LAST-MODIFIED:20230325T180139Z
UID:664-1686164400-1686169800@hqgsaugus.org
SUMMARY:Annual Ice Cream Social and Annual Business Meeting
DESCRIPTION:The June meeting is our annual Ice Cream Social.  Guild members enjoy each other and the ice cream with varied toppings during this meeting.  At this meeting\, the annual business meeting including election of officers will take place.  Come enjoy the social and vote in our new officers.
URL:https://hqgsaugus.org/index.php/event/annual-ice-cream-social/
LOCATION:Saugus Senior Center\, 466 Central St\, Saugus\, MA\, 01906\, United States
END:VEVENT
BEGIN:VEVENT
DTSTART;TZID=UTC:20230518T180000
DTEND;TZID=UTC:20230518T200000
DTSTAMP:20260425T153957
CREATED:20230205T192505Z
LAST-MODIFIED:20230205T192505Z
UID:656-1684432800-1684440000@hqgsaugus.org
SUMMARY:Executive Board Meeting
DESCRIPTION:The Executive Board meets via ZOOM.  All Guild members are invited.
URL:https://hqgsaugus.org/index.php/event/executive-board-meeting-4/
LOCATION:Zoom
END:VEVENT
BEGIN:VEVENT
DTSTART;TZID=America/New_York:20230503T190000
DTEND;TZID=America/New_York:20230503T203000
DTSTAMP:20260425T153957
CREATED:20230205T193145Z
LAST-MODIFIED:20230408T003916Z
UID:662-1683140400-1683145800@hqgsaugus.org
SUMMARY:General Meeting
DESCRIPTION:This is a general meeting with no speaker.  We will have show and tell plus all the usual guild meeting activities.  Nominations for officers will also occur.  The annual business meeting for the members is postponed to June when election of some of the officers will occur. \nThe fat quarter theme is patriotic.
URL:https://hqgsaugus.org/index.php/event/guild-business-meeting/
LOCATION:Saugus Senior Center\, 466 Central St\, Saugus\, MA\, 01906\, United States
END:VEVENT
BEGIN:VEVENT
DTSTART;TZID=UTC:20230420T180000
DTEND;TZID=UTC:20230420T200000
DTSTAMP:20260425T153957
CREATED:20230205T192404Z
LAST-MODIFIED:20230205T192404Z
UID:654-1682013600-1682020800@hqgsaugus.org
SUMMARY:Executive Board Meeting
DESCRIPTION:The Executive Board meets via ZOOM.  All Guild members are invited.
URL:https://hqgsaugus.org/index.php/event/executive-board-meeting-3/
LOCATION:Zoom
END:VEVENT
BEGIN:VEVENT
DTSTART;TZID=America/New_York:20230405T190000
DTEND;TZID=America/New_York:20230405T203000
DTSTAMP:20260425T153957
CREATED:20230205T192946Z
LAST-MODIFIED:20230321T001140Z
UID:660-1680721200-1680726600@hqgsaugus.org
SUMMARY:General Meeting
DESCRIPTION:April Speaker: \n\nWe are excited to announce our speaker for our April Meeting: Beth Helfer of Eva Paige Quilt Designs. \nThe program is “Creativity Out of Chaos”. \nShe will talk about using scraps to inspire new designs. \n\nevapaigequilts.com\n\nShe also developed Accordion Sewn HST’sTM. Making half square triangles without matches or waste.  YouTube has a couple of videos by her explaining the technique.\n\n 
URL:https://hqgsaugus.org/index.php/event/general-meeting/
LOCATION:Saugus Senior Center\, 466 Central St\, Saugus\, MA\, 01906\, United States
END:VEVENT
BEGIN:VEVENT
DTSTART;TZID=America/New_York:20230323T180000
DTEND;TZID=America/New_York:20230323T200000
DTSTAMP:20260425T153957
CREATED:20230321T001504Z
LAST-MODIFIED:20230321T001807Z
UID:925-1679594400-1679601600@hqgsaugus.org
SUMMARY:Special Zoom Meeting with the Executive Board
DESCRIPTION:A meeting will be held to discuss how members can actively participate in the guild. We want to know if the structure is working for you all. We want to know if you have other ideas about what and how we do things. Come join us on March 22nd to add you thoughts to the discussion.  The zoom link was sent via email.
URL:https://hqgsaugus.org/index.php/event/special-zoom-meeting-with-the-executive-board/
LOCATION:Zoom
END:VEVENT
BEGIN:VEVENT
DTSTART;TZID=America/New_York:20230318T090000
DTEND;TZID=America/New_York:20230318T170000
DTSTAMP:20260425T153957
CREATED:20230302T182601Z
LAST-MODIFIED:20230302T182601Z
UID:845-1679130000-1679158800@hqgsaugus.org
SUMMARY:Mini Sit and Sew Retreat
DESCRIPTION:To celebrate National Quilting Day and to have a mini-retreat for our members\, our guild is sponsoring a Sit and Sew mini retreat on March 18\, 2023.  The retreat is limited to 20 members. \nCoffee\, tea\, and water provided. \nSnacks and Lunch provided. \nIroning stations\,cutting mats\, WiFi\, full kitchen. \nHandicap accessible. \nGreat Raffles throughout the day.
URL:https://hqgsaugus.org/index.php/event/mini-sit-and-sew-retreat/
LOCATION:Nancy Sandreuter’s Office\, 30 -32 Ray Avenue\, Burlington\, MA\, 01803\, United States
END:VEVENT
BEGIN:VEVENT
DTSTART;TZID=America/New_York:20230315T180000
DTEND;TZID=America/New_York:20230315T200000
DTSTAMP:20260425T153957
CREATED:20230205T192116Z
LAST-MODIFIED:20230205T192116Z
UID:651-1678903200-1678910400@hqgsaugus.org
SUMMARY:Executive Board Meeting
DESCRIPTION:The Executive Board meets via ZOOM.  All Guild members are invited.
URL:https://hqgsaugus.org/index.php/event/executive-board-meeting-2/
LOCATION:Zoom
END:VEVENT
BEGIN:VEVENT
DTSTART;TZID=America/New_York:20230301T190000
DTEND;TZID=America/New_York:20230301T210000
DTSTAMP:20260425T153957
CREATED:20230205T190424Z
LAST-MODIFIED:20230205T191034Z
UID:642-1677697200-1677704400@hqgsaugus.org
SUMMARY:Dottie's Yard Sale
DESCRIPTION:Dottie MacComber was an avid quilter and a longtime member of the Hammersmith Quilters Guild.  After her death\, her husband donated her stash of fabric\, notions\, batting\, and other quilting supplies to the guild.  The Guild is holding a giant yard sale of these items on March 1st.
URL:https://hqgsaugus.org/index.php/event/dotties-yard-sale/
LOCATION:Saugus Senior Center\, 466 Central St\, Saugus\, MA\, 01906\, United States
END:VEVENT
BEGIN:VEVENT
DTSTART;TZID=America/New_York:20230215T183000
DTEND;TZID=America/New_York:20230215T200000
DTSTAMP:20260425T153957
CREATED:20230205T191833Z
LAST-MODIFIED:20230205T191833Z
UID:648-1676485800-1676491200@hqgsaugus.org
SUMMARY:Executive Board Meeting
DESCRIPTION:The Executive Board meets via ZOOM.  All Guild members are invited.Wednesday\, February 15\, 2023\, 6:00 pm Executive Board Meeting via Zoom.
URL:https://hqgsaugus.org/index.php/event/executive-board-meeting/
LOCATION:MA
END:VEVENT
END:VCALENDAR