BEGIN:VCALENDAR
VERSION:2.0
PRODID:-//Hammersmith Quilters Guild - ECPv6.15.20//NONSGML v1.0//EN
CALSCALE:GREGORIAN
METHOD:PUBLISH
X-WR-CALNAME:Hammersmith Quilters Guild
X-ORIGINAL-URL:https://hqgsaugus.org
X-WR-CALDESC:Events for Hammersmith Quilters Guild
REFRESH-INTERVAL;VALUE=DURATION:PT1H
X-Robots-Tag:noindex
X-PUBLISHED-TTL:PT1H
BEGIN:VTIMEZONE
TZID:America/New_York
BEGIN:DAYLIGHT
TZOFFSETFROM:-0500
TZOFFSETTO:-0400
TZNAME:EDT
DTSTART:20220313T070000
END:DAYLIGHT
BEGIN:STANDARD
TZOFFSETFROM:-0400
TZOFFSETTO:-0500
TZNAME:EST
DTSTART:20221106T060000
END:STANDARD
BEGIN:DAYLIGHT
TZOFFSETFROM:-0500
TZOFFSETTO:-0400
TZNAME:EDT
DTSTART:20230312T070000
END:DAYLIGHT
BEGIN:STANDARD
TZOFFSETFROM:-0400
TZOFFSETTO:-0500
TZNAME:EST
DTSTART:20231105T060000
END:STANDARD
BEGIN:DAYLIGHT
TZOFFSETFROM:-0500
TZOFFSETTO:-0400
TZNAME:EDT
DTSTART:20240310T070000
END:DAYLIGHT
BEGIN:STANDARD
TZOFFSETFROM:-0400
TZOFFSETTO:-0500
TZNAME:EST
DTSTART:20241103T060000
END:STANDARD
BEGIN:DAYLIGHT
TZOFFSETFROM:-0500
TZOFFSETTO:-0400
TZNAME:EDT
DTSTART:20250309T070000
END:DAYLIGHT
BEGIN:STANDARD
TZOFFSETFROM:-0400
TZOFFSETTO:-0500
TZNAME:EST
DTSTART:20251102T060000
END:STANDARD
END:VTIMEZONE
BEGIN:VTIMEZONE
TZID:UTC
BEGIN:STANDARD
TZOFFSETFROM:+0000
TZOFFSETTO:+0000
TZNAME:UTC
DTSTART:20230101T000000
END:STANDARD
END:VTIMEZONE
BEGIN:VEVENT
DTSTART;VALUE=DATE:20240427
DTEND;VALUE=DATE:20240429
DTSTAMP:20260425T112507
CREATED:20240310T191235Z
LAST-MODIFIED:20240310T191235Z
UID:1760-1714176000-1714348799@hqgsaugus.org
SUMMARY:The Narragansett Bay Quilters' Guild presents "A Spring Quilt Fest"
DESCRIPTION:
URL:https://hqgsaugus.org/index.php/event/the-narragansett-bay-quilters-guild-presents-a-spring-quilt-fest/
LOCATION:West Warwick Civic Center\, 100 Factory Street\, West Warwick\, RI\, United States
END:VEVENT
BEGIN:VEVENT
DTSTART;TZID=America/New_York:20240417T181500
DTEND;TZID=America/New_York:20240417T201500
DTSTAMP:20260425T112507
CREATED:20230822T125411Z
LAST-MODIFIED:20230822T125411Z
UID:1186-1713377700-1713384900@hqgsaugus.org
SUMMARY:April Executive Board Meeting
DESCRIPTION:All member are invited to the Executive Board Meeting.
URL:https://hqgsaugus.org/index.php/event/april-executive-board-meeting/
LOCATION:Panera Bread\, 647 Broadway\, Saugus\, 01906
END:VEVENT
BEGIN:VEVENT
DTSTART;TZID=America/New_York:20240416T190000
DTEND;TZID=America/New_York:20240416T210000
DTSTAMP:20260425T112507
CREATED:20240310T190556Z
LAST-MODIFIED:20240310T190556Z
UID:1755-1713294000-1713301200@hqgsaugus.org
SUMMARY:Crossroads Quilters Auction
DESCRIPTION:CROSSROADS QUILTERS AUCTION\nAPRIL 16\, 2024\nLiving Hope Church of the Nazarene\n556 Cabot St. Beverly\, MA \n6:15 Preview – Doors Open\nSilent Auction and On-the-Spot Items to Purchase \n7:00 Live Auction Begins \nFabric bundles\, Kits\, Unfinished Projects\, Quilting Supplies! \nRaffle tickets available for 2024 Raffle Quilt\nWinning Ticket to be drawn at end of auction! \nFree Admission      Light Refreshments Served \nPlenty of Free Parking – Handicap Accessible \nCash or Checks only\, Please
URL:https://hqgsaugus.org/index.php/event/crossroads-quilters-auction/
LOCATION:Living Hope Church of the Nazarene\, 556 Cabot St\, Beverly
END:VEVENT
BEGIN:VEVENT
DTSTART;TZID=America/New_York:20240403T190000
DTEND;TZID=America/New_York:20240403T203000
DTSTAMP:20260425T112507
CREATED:20230822T130846Z
LAST-MODIFIED:20240225T181927Z
UID:1209-1712170800-1712176200@hqgsaugus.org
SUMMARY:April Guild Meeting
DESCRIPTION:Monthly guild meeting.   Margarita Blyumkina\, a guild member\, will show us how she makes her beautiful\, two sided scrap quilts. \nFat quarter:  White on white
URL:https://hqgsaugus.org/index.php/event/april-guild-meeting/
LOCATION:Saugus Senior Center\, 466 Central St\, Saugus\, MA\, 01906\, United States
END:VEVENT
BEGIN:VEVENT
DTSTART;VALUE=DATE:20240326
DTEND;VALUE=DATE:20240616
DTSTAMP:20260425T112507
CREATED:20240407T170900Z
LAST-MODIFIED:20240407T170900Z
UID:1992-1711411200-1718495999@hqgsaugus.org
SUMMARY:Dawn Allen's fiber art portrayals of the human-animal bond
DESCRIPTION:From the New England Quilt Museum website: “Following the success of her 2021 exhibition Great American Road Trip\, the NEQM is delighted to welcome back fiber artist Dawn Allen. Her latest series Domestic Partners captures the relationships that humans share with their animals. Many of the images depict humans and animals together\, illustrating aspects of their emotional connection. Others\, which feature animals alone\, invite the viewer to look into their eyes and contemplate their inner lives. \n\n\n\n\nUsing a digital painting process\, Allen designs all of her own fabrics. Her works are finished using a “free-motion quilting” technique that often includes 100 different thread colors. The resulting portraits explode with personality created using color and texture to convey a dog’s inquisitive gaze\, a rabbit’s soft fur\, or the protective embrace of a human. Each of the 16 works featured in this exhibition are as unique as the individuals and animals they represent.”
URL:https://hqgsaugus.org/index.php/event/dawn-allens-fiber-art-portrayals-of-the-human-animal-bond/
LOCATION:New England Quilt Museum\, 18 Shattuck St\, Lowell\, MA\, 01852\, United States
END:VEVENT
BEGIN:VEVENT
DTSTART;TZID=America/New_York:20240320T181500
DTEND;TZID=America/New_York:20240320T201500
DTSTAMP:20260425T112507
CREATED:20230822T125303Z
LAST-MODIFIED:20230822T125303Z
UID:1184-1710958500-1710965700@hqgsaugus.org
SUMMARY:March Executive Board Meeting
DESCRIPTION:All member are invited to the Executive Board Meeting.
URL:https://hqgsaugus.org/index.php/event/march-executive-board-meeting/
LOCATION:Panera Bread\, 647 Broadway\, Saugus\, 01906
END:VEVENT
BEGIN:VEVENT
DTSTART;TZID=UTC:20240309T110000
DTEND;TZID=UTC:20240309T123000
DTSTAMP:20260425T112507
CREATED:20240214T142229Z
LAST-MODIFIED:20240214T142229Z
UID:1697-1709982000-1709987400@hqgsaugus.org
SUMMARY:NEQM - Improv and Abstraction in Antique Quilts
DESCRIPTION:Marge Tucker\, Guest Curator\, will conduct a program on improv and abstraction in antique quilts on Saturday\, March 9\, 11 am.  The program will take place in the Genre Gallery.
URL:https://hqgsaugus.org/index.php/event/neqm-improv-and-abstraction-in-antique-quilts/
LOCATION:New England Quilt Museum\, 18 Shattuck St\, Lowell\, MA\, 01852\, United States
END:VEVENT
BEGIN:VEVENT
DTSTART;TZID=America/New_York:20240306T190000
DTEND;TZID=America/New_York:20240306T203000
DTSTAMP:20260425T112507
CREATED:20230822T130746Z
LAST-MODIFIED:20240214T141604Z
UID:1207-1709751600-1709757000@hqgsaugus.org
SUMMARY:March Guild Meeting
DESCRIPTION:Monthly guild meeting.  Penelope Young\, a fiber artist\, will tell us about making art quilts.  She uses many techniques to dye\, paint and print her fabrics. Her art pieces are highly embellished with thread\, beads\, buttons and found objects.  \nFat Quarter:  Batiks
URL:https://hqgsaugus.org/index.php/event/march-guild-meeting/
LOCATION:Saugus Senior Center\, 466 Central St\, Saugus\, MA\, 01906\, United States
END:VEVENT
BEGIN:VEVENT
DTSTART;TZID=America/New_York:20240306T153000
DTEND;TZID=America/New_York:20240306T173000
DTSTAMP:20260425T112507
CREATED:20240214T140321Z
LAST-MODIFIED:20240214T140321Z
UID:1691-1709739000-1709746200@hqgsaugus.org
SUMMARY:Art Quilt Workshop
DESCRIPTION:On March 6th we are offering an Art Quilt workshop at 3:30 in the “Boutique Room” at the Saugus Senior Center.  For the great cost of $22.50 you will have two hours with a wonderful Melrose artisan\, Penny Young\, and come away with a lovely wall hanging in your colors with beading\, stamping and embroidery which she will teach us.\n\nContact Joyce Rodenhiser at albearrod@aol.com or 781-233-9484 for details and to reserve your space.
URL:https://hqgsaugus.org/index.php/event/art-quilt-workshop/
LOCATION:Saugus Senior Center\, 466 Central St\, Saugus\, MA\, 01906\, United States
END:VEVENT
BEGIN:VEVENT
DTSTART;TZID=UTC:20240224T130000
DTEND;TZID=UTC:20240224T150000
DTSTAMP:20260425T112507
CREATED:20240214T142630Z
LAST-MODIFIED:20240214T142630Z
UID:1699-1708779600-1708786800@hqgsaugus.org
SUMMARY:NEQM - What's in a Name
DESCRIPTION:Join Collections Manager\, Laura Lane\, for a “bed turning” featuring inscribed quilts.  It is Saturday\, February 24 at 1 PM.
URL:https://hqgsaugus.org/index.php/event/neqm-whats-in-a-name/
LOCATION:New England Quilt Museum\, 18 Shattuck St\, Lowell\, MA\, 01852\, United States
END:VEVENT
BEGIN:VEVENT
DTSTART;TZID=America/New_York:20240221T181500
DTEND;TZID=America/New_York:20240221T201500
DTSTAMP:20260425T112507
CREATED:20230822T125143Z
LAST-MODIFIED:20230822T125143Z
UID:1182-1708539300-1708546500@hqgsaugus.org
SUMMARY:February Executive Board Meeting
DESCRIPTION:All member are invited to the Executive Board Meeting.
URL:https://hqgsaugus.org/index.php/event/february-executive-board-meeting/
LOCATION:Panera Bread\, 647 Broadway\, Saugus\, 01906
END:VEVENT
BEGIN:VEVENT
DTSTART;TZID=America/New_York:20240207T190000
DTEND;TZID=America/New_York:20240207T203000
DTSTAMP:20260425T112507
CREATED:20230822T130637Z
LAST-MODIFIED:20240117T151250Z
UID:1205-1707332400-1707337800@hqgsaugus.org
SUMMARY:February Guild Meeting
DESCRIPTION:Monthly guild meeting.  The Guild will hold an auction for members of unwanted stash items. \nCreative Quilt Works:  Valentine themed mug rug \nFat quarter:  Dots
URL:https://hqgsaugus.org/index.php/event/february-guild-meeting/
LOCATION:Saugus Senior Center\, 466 Central St\, Saugus\, MA\, 01906\, United States
END:VEVENT
BEGIN:VEVENT
DTSTART;TZID=America/New_York:20240117T181500
DTEND;TZID=America/New_York:20240117T201500
DTSTAMP:20260425T112507
CREATED:20230822T125029Z
LAST-MODIFIED:20240117T150820Z
UID:1180-1705515300-1705522500@hqgsaugus.org
SUMMARY:January Executive Board Meeting
DESCRIPTION:All member are invited to the Executive Board Meeting.  To get the zoom link\, contact an executive board member.
URL:https://hqgsaugus.org/index.php/event/january-executive-board-meeting/
LOCATION:Zoom
END:VEVENT
BEGIN:VEVENT
DTSTART;VALUE=DATE:20240116
DTEND;VALUE=DATE:20240428
DTSTAMP:20260425T112507
CREATED:20240407T170513Z
LAST-MODIFIED:20240407T170513Z
UID:1990-1705363200-1714262399@hqgsaugus.org
SUMMARY:The Quilted Canvas IV: Ruth McDowell\, Jude Larzelere\, Tafi Brown and Jo Diggs
DESCRIPTION:From the New England Quilt Museum Website:  “The Quilted Canvas IV is the final exhibition in a series that began in 2017 at the New England Quilt Museum to recognize and celebrate America’s pioneering art quilters. This fourth installment features the works of Ruth McDowell\, Jude Larzelere\, Tafi Brown and Jo Diggs. Some of these artists received formal training in art school in the 1950s and 1960s\, but chose to explore fabric as their primary creative medium at a time when this was unusual. \nExhibited nationally and internationally\, their work is included in private and corporate collections\, and they are featured in numerous publications. The innovative works of these four artists continue to demand our attention and influence new generations of textile artists.”
URL:https://hqgsaugus.org/index.php/event/the-quilted-canvas-iv-ruth-mcdowell-jude-larzelere-tafi-brown-and-jo-diggs/
LOCATION:New England Quilt Museum\, 18 Shattuck St\, Lowell\, MA\, 01852\, United States
END:VEVENT
BEGIN:VEVENT
DTSTART;TZID=America/New_York:20240103T190000
DTEND;TZID=America/New_York:20240103T203000
DTSTAMP:20260425T112507
CREATED:20230822T130540Z
LAST-MODIFIED:20230822T134445Z
UID:1203-1704308400-1704313800@hqgsaugus.org
SUMMARY:January Guild Meeting
DESCRIPTION:Monthly guild meeting.  Details TBD. \nFat Quarter: Floral
URL:https://hqgsaugus.org/index.php/event/january-guild-meeting/
LOCATION:Saugus Senior Center\, 466 Central St\, Saugus\, MA\, 01906\, United States
END:VEVENT
BEGIN:VEVENT
DTSTART;TZID=America/New_York:20231220T180000
DTEND;TZID=America/New_York:20231220T201500
DTSTAMP:20260425T112507
CREATED:20230822T124923Z
LAST-MODIFIED:20231127T162110Z
UID:1178-1703095200-1703103300@hqgsaugus.org
SUMMARY:December Executive Board Meeting
DESCRIPTION:All member are invited to the Executive Board Meeting.  This will be a zoom meeting.  To get the zoom link — ask a board member.
URL:https://hqgsaugus.org/index.php/event/december-executive-board-meeting/
LOCATION:Zoom
END:VEVENT
BEGIN:VEVENT
DTSTART;TZID=America/New_York:20231206T190000
DTEND;TZID=America/New_York:20231206T203000
DTSTAMP:20260425T112507
CREATED:20230822T130433Z
LAST-MODIFIED:20230822T134405Z
UID:1201-1701889200-1701894600@hqgsaugus.org
SUMMARY:December Guild Meeting
DESCRIPTION:Monthly guild meeting. \nAnnual pot luck dinner. \nFat Quarter: Purple
URL:https://hqgsaugus.org/index.php/event/december-guild-meeting/
LOCATION:Saugus Senior Center\, 466 Central St\, Saugus\, MA\, 01906\, United States
END:VEVENT
BEGIN:VEVENT
DTSTART;TZID=America/New_York:20231124T100000
DTEND;TZID=America/New_York:20231124T120000
DTSTAMP:20260425T112507
CREATED:20231114T221607Z
LAST-MODIFIED:20231114T221607Z
UID:1554-1700820000-1700827200@hqgsaugus.org
SUMMARY:Stuffing Pillowcases for Donation
DESCRIPTION:We will be stuffing pillowcases at Blessed Sacrament Church basement on Friday\, November 24\,2023 (the day after Thanksgiving). We will be meeting at 10AM.\n \nThe address is:\n14 Summer Street\nSaugus\, MA 01906\n \nALL ARE WELCOME! Please let me know if you would like to help.\n 
URL:https://hqgsaugus.org/index.php/event/stuffing-pillowcases-for-donation/
LOCATION:Blesed Scacrement Church\, 14 Summer St\, Saugus\, MA\, 01906\, United States
END:VEVENT
BEGIN:VEVENT
DTSTART;VALUE=DATE:20231120
DTEND;VALUE=DATE:20231231
DTSTAMP:20260425T112507
CREATED:20231120T163922Z
LAST-MODIFIED:20231120T163922Z
UID:1588-1700438400-1703980799@hqgsaugus.org
SUMMARY:On view at the New England Quilt Museum
DESCRIPTION:On View through December 30\, 2023 \nAnimalia: The Animal Kingdom in Quilts and Textiles \nPersonal Expression: The Legacy of Gwen Marston \nMedallion Quilts from the American Quilt Study Group \nMedallion Quilts from the Permanent Collection \nEXPLORE   \nJoin Guest Curator\, Barb Vedder\, for her gallery talk on Personal Expression: The Legacy of Gwen Marston \nSaturday\, November 25\, 2023 at 1 PM \nSaturday\, December 2\, 2023 at 1 PM
URL:https://hqgsaugus.org/index.php/event/on-view-at-the-new-england-quilt-museum/
LOCATION:New England Quilt Museum\, 18 Shattuck St\, Lowell\, MA\, 01852\, United States
END:VEVENT
BEGIN:VEVENT
DTSTART;TZID=America/New_York:20231115T181500
DTEND;TZID=America/New_York:20231115T201500
DTSTAMP:20260425T112507
CREATED:20230822T124746Z
LAST-MODIFIED:20230822T124746Z
UID:1176-1700072100-1700079300@hqgsaugus.org
SUMMARY:November Executive Board Meeting
DESCRIPTION:All member are invited to the Executive Board Meeting.
URL:https://hqgsaugus.org/index.php/event/november-executive-board-meeting/
LOCATION:Panera Bread\, 647 Broadway\, Saugus\, 01906
END:VEVENT
BEGIN:VEVENT
DTSTART;VALUE=DATE:20231104
DTEND;VALUE=DATE:20231106
DTSTAMP:20260425T112507
CREATED:20230205T194616Z
LAST-MODIFIED:20230205T194616Z
UID:666-1699056000-1699228799@hqgsaugus.org
SUMMARY:Hammersmith Quilters Guild Quilt Show
DESCRIPTION:Discover the beauty of quilts made by our guild members. The show’s theme is “Around the Block.” In addition to quilts designed to interpret this theme\, other quilts are also displayed. There will be a raffle quilt\, raffle baskets\, a boutique featuring many of crafts for sale\, door prizes\, a cafe\, vendor booths\, and Quilts of Valor.  The public is invited to this two day event.  Cost is $6. 
URL:https://hqgsaugus.org/index.php/event/hammersmith-quilters-guild-quilt-show/
LOCATION:Saugus Senior Center\, 466 Central St\, Saugus\, MA\, 01906\, United States
END:VEVENT
BEGIN:VEVENT
DTSTART;TZID=America/New_York:20231101T190000
DTEND;TZID=America/New_York:20231101T203000
DTSTAMP:20260425T112507
CREATED:20230822T130302Z
LAST-MODIFIED:20230822T134338Z
UID:1198-1698865200-1698870600@hqgsaugus.org
SUMMARY:November Guild Meeting
DESCRIPTION:Monthly guild meeting. \nPresentation on the Ruler Library. \nFat quarter: Stripes
URL:https://hqgsaugus.org/index.php/event/november-quild-meeting/
LOCATION:Saugus Senior Center\, 466 Central St\, Saugus\, MA\, 01906\, United States
END:VEVENT
BEGIN:VEVENT
DTSTART;TZID=America/New_York:20231028T100000
DTEND;TZID=America/New_York:20231028T140000
DTSTAMP:20260425T112507
CREATED:20231008T190004Z
LAST-MODIFIED:20231008T190004Z
UID:1331-1698487200-1698501600@hqgsaugus.org
SUMMARY:The Piecemakers Quilt Show
DESCRIPTION:Oct 28\, 2023 \nThe Piecemakers Quilt Show \nSeekonk Congregational Church \n600 Fall River Ave (RT114A) \nSeekonk\, MA \nDetails
URL:https://hqgsaugus.org/index.php/event/the-piecemakers-quilt-show/
END:VEVENT
BEGIN:VEVENT
DTSTART;TZID=America/New_York:20231021T090000
DTEND;TZID=America/New_York:20231021T140000
DTSTAMP:20260425T112507
CREATED:20231008T185811Z
LAST-MODIFIED:20231008T185811Z
UID:1329-1697878800-1697896800@hqgsaugus.org
SUMMARY:Concord Piecemakers Guild Guild Fabric\, Yarn & Notion Sale
DESCRIPTION:Oct 21\, 2023 \nConcord Piecemakers Quilt Guild \nFabric\, Yarn & Notions Sale \nSt. Matthews UMC\, 435 Central St \nActon\, MA \nDetails
URL:https://hqgsaugus.org/index.php/event/concord-piecemakers-guild-guild-fabric-yarn-notion-sale/
END:VEVENT
BEGIN:VEVENT
DTSTART;TZID=America/New_York:20231018T181500
DTEND;TZID=America/New_York:20231018T201500
DTSTAMP:20260425T112507
CREATED:20230822T124625Z
LAST-MODIFIED:20230822T124625Z
UID:1174-1697652900-1697660100@hqgsaugus.org
SUMMARY:October Executive Board Meeting
DESCRIPTION:All member are invited to the Executive Board Meeting.
URL:https://hqgsaugus.org/index.php/event/october-executive-board-meeting/
LOCATION:Panera Bread\, 647 Broadway\, Saugus\, 01906
END:VEVENT
BEGIN:VEVENT
DTSTART;TZID=America/New_York:20231014T130000
DTEND;TZID=America/New_York:20231014T153000
DTSTAMP:20260425T112507
CREATED:20231008T190448Z
LAST-MODIFIED:20231008T190448Z
UID:1335-1697288400-1697297400@hqgsaugus.org
SUMMARY:"Bed Turning" at New England Quilt Museum
DESCRIPTION:Oct 14\, 2023 \n“Bed Turning” with the Collections Manager \nat the New England Quilt Museum \nDetails
URL:https://hqgsaugus.org/index.php/event/bed-turning-at-new-england-quilt-museum/
END:VEVENT
BEGIN:VEVENT
DTSTART;VALUE=DATE:20231014
DTEND;VALUE=DATE:20231016
DTSTAMP:20260425T112507
CREATED:20231008T190732Z
LAST-MODIFIED:20231008T190732Z
UID:1339-1697241600-1697414399@hqgsaugus.org
SUMMARY:Rising Star Quilters Guild Quilt Show
DESCRIPTION:Oct 14 – 15\, 2023 \nRising Star Quilters Guild \n34th Annual Quilt Show \nArlington Town Hall\, 730 Mass Ave \nArlington\, MA \nDetails
URL:https://hqgsaugus.org/index.php/event/rising-star-quilters-guild-quilt-show/
END:VEVENT
BEGIN:VEVENT
DTSTART;VALUE=DATE:20231014
DTEND;VALUE=DATE:20231016
DTSTAMP:20260425T112507
CREATED:20231008T190620Z
LAST-MODIFIED:20231008T190620Z
UID:1337-1697241600-1697414399@hqgsaugus.org
SUMMARY:Crosstown Quilters Guild Quilt Show
DESCRIPTION:Oct 14 – 15\, 2023 \nCrosstown Quilters Guild \n“Wrapped in Comfort” Quilt Show \nAbington Senior Center\, 441 Summer St \nAbington\, MA \nDetails
URL:https://hqgsaugus.org/index.php/event/crosstown-quilters-guild-quilt-show/
END:VEVENT
BEGIN:VEVENT
DTSTART;VALUE=DATE:20231014
DTEND;VALUE=DATE:20231016
DTSTAMP:20260425T112507
CREATED:20231008T185312Z
LAST-MODIFIED:20231008T185312Z
UID:1325-1697241600-1697414399@hqgsaugus.org
SUMMARY:Crosstown Quilters Guild
DESCRIPTION:Crosstown Quilters Wrapped In Comfort\nQuilt Show – Abington\, MA\nWHEN:\nOctober 14\, 2023 @ 10:00 am – 4:00 pm\nWHERE:\nAbington Senior Center\n441 Summer Street\nAbington MA 02351\nCOST:\n$7; Children under 12 admitted free\nOctober 14 – 15\, 2023\nSaturday 10-4\, Sunday 10-3\nCome enjoy 200 beautiful quilts on display\, raffle quilt and themed baskets\, vendor and handcrafted boutique items.\nIt’s our first show in five years and we are very excited to share our talents with you!\nHandicap accessible\nParking: Free parking.\nFood: Food available \n 
URL:https://hqgsaugus.org/index.php/event/crosstown-quilters-guild/
END:VEVENT
BEGIN:VEVENT
DTSTART;VALUE=DATE:20231013
DTEND;VALUE=DATE:20231016
DTSTAMP:20260425T112507
CREATED:20231008T185028Z
LAST-MODIFIED:20231008T185028Z
UID:1323-1697155200-1697414399@hqgsaugus.org
SUMMARY:Ninigret Quilters Annual Quilt Show
DESCRIPTION:Oct 13 – 15\, 2023 \nNinigret Quilters Annual Quilt Show \nWesterly Armory\, 41 Railroad Ave \nWesterly\, RI \nhttp://ninigretquilters.blogspot.com/p/quilt-show-2023.html
URL:https://hqgsaugus.org/index.php/event/ninigret-quilters-annual-quilt-show/
END:VEVENT
END:VCALENDAR