BEGIN:VCALENDAR
VERSION:2.0
PRODID:-//Hammersmith Quilters Guild - ECPv6.15.20//NONSGML v1.0//EN
CALSCALE:GREGORIAN
METHOD:PUBLISH
X-ORIGINAL-URL:https://hqgsaugus.org
X-WR-CALDESC:Events for Hammersmith Quilters Guild
REFRESH-INTERVAL;VALUE=DURATION:PT1H
X-Robots-Tag:noindex
X-PUBLISHED-TTL:PT1H
BEGIN:VTIMEZONE
TZID:America/New_York
BEGIN:DAYLIGHT
TZOFFSETFROM:-0500
TZOFFSETTO:-0400
TZNAME:EDT
DTSTART:20250309T070000
END:DAYLIGHT
BEGIN:STANDARD
TZOFFSETFROM:-0400
TZOFFSETTO:-0500
TZNAME:EST
DTSTART:20251102T060000
END:STANDARD
BEGIN:DAYLIGHT
TZOFFSETFROM:-0500
TZOFFSETTO:-0400
TZNAME:EDT
DTSTART:20260308T070000
END:DAYLIGHT
BEGIN:STANDARD
TZOFFSETFROM:-0400
TZOFFSETTO:-0500
TZNAME:EST
DTSTART:20261101T060000
END:STANDARD
BEGIN:DAYLIGHT
TZOFFSETFROM:-0500
TZOFFSETTO:-0400
TZNAME:EDT
DTSTART:20270314T070000
END:DAYLIGHT
BEGIN:STANDARD
TZOFFSETFROM:-0400
TZOFFSETTO:-0500
TZNAME:EST
DTSTART:20271107T060000
END:STANDARD
END:VTIMEZONE
BEGIN:VTIMEZONE
TZID:UTC
BEGIN:STANDARD
TZOFFSETFROM:+0000
TZOFFSETTO:+0000
TZNAME:UTC
DTSTART:20250101T000000
END:STANDARD
END:VTIMEZONE
BEGIN:VEVENT
DTSTART;TZID=America/New_York:20260325T180000
DTEND;TZID=America/New_York:20260325T190000
DTSTAMP:20260425T124048
CREATED:20251130T182809Z
LAST-MODIFIED:20260317T213241Z
UID:3356-1774461600-1774465200@hqgsaugus.org
SUMMARY:March 2026 Executive Board Meeting
DESCRIPTION:The Guild’s Executive Board meets by zoom.  Any member can attend the board meeting.  Please ask a member of the Executive Board for the zoom link.
URL:https://hqgsaugus.org/index.php/event/march-2026-executive-board-meeting/
LOCATION:Zoom
END:VEVENT
BEGIN:VEVENT
DTSTART;TZID=America/New_York:20260401T190000
DTEND;TZID=America/New_York:20260401T200000
DTSTAMP:20260425T124048
CREATED:20251130T184829Z
LAST-MODIFIED:20260126T200733Z
UID:3368-1775070000-1775073600@hqgsaugus.org
SUMMARY:April 2026 General Membership Meeting
DESCRIPTION:Timna Tarr will speak at the April General Membership Meeting.  Her is an excerpt from her website — https://www.timnatarr.com/ \n  \n\n\n\n“My work is about color and small compositions. Each block in a quilt is made as its own element\, independent of the other blocks. After all of the blocks are constructed\, my goal is to arrange the small compositions to play off each other and work together to create a larger whole. What keeps me engaged is watching how the project changes and transforms with the addition of each color and texture. \nThe resulting quilts are contemporary works\, set in this time and place\, which reference the rich tradition of quilt making.”
URL:https://hqgsaugus.org/index.php/event/april-2025-general-membership-meeting-2/
LOCATION:Zoom
END:VEVENT
BEGIN:VEVENT
DTSTART;VALUE=DATE:20260411
DTEND;VALUE=DATE:20260412
DTSTAMP:20260425T124048
CREATED:20251130T185555Z
LAST-MODIFIED:20251130T185555Z
UID:3372-1775865600-1775951999@hqgsaugus.org
SUMMARY:Guild Bus Trip to American Quilter's Society Quilt Show
DESCRIPTION:The Guild will charter a bus for the American Quilter’s Society quilt show held in Hartford\, Connecticut on April 11\, 2026.  Details forthcoming.
URL:https://hqgsaugus.org/index.php/event/guild-bus-trip-to-american-quilters-society-quilt-show/
END:VEVENT
BEGIN:VEVENT
DTSTART;VALUE=DATE:20260411
DTEND;VALUE=DATE:20260412
DTSTAMP:20260425T124048
CREATED:20260215T232217Z
LAST-MODIFIED:20260215T232217Z
UID:3474-1775865600-1775951999@hqgsaugus.org
SUMMARY:AQS Bus Trip
DESCRIPTION:AQS Bus Trip Saturday\, April 11\, 2026. AQS Show is in Hartford\, Connecticut. Bus leaves Saugus Senior Center at 9:00am. Member cost is $37\, Non HQG member fee is $47. Price includes ticket for the show\, bus camaraderie\, fun and games.
URL:https://hqgsaugus.org/index.php/event/aqs-bus-trip/
END:VEVENT
BEGIN:VEVENT
DTSTART;TZID=America/New_York:20260415T180000
DTEND;TZID=America/New_York:20260415T190000
DTSTAMP:20260425T124048
CREATED:20251130T182933Z
LAST-MODIFIED:20251130T182933Z
UID:3358-1776276000-1776279600@hqgsaugus.org
SUMMARY:April 2026 Executive Board Meeting
DESCRIPTION:The Guild’s Executive Board meets by zoom.  Any member can attend the board meeting.  Please ask a member of the Executive Board for the zoom link.
URL:https://hqgsaugus.org/index.php/event/april-2026-executive-board-meeting/
LOCATION:Zoom
END:VEVENT
BEGIN:VEVENT
DTSTART;TZID=America/New_York:20260418T100000
DTEND;TZID=America/New_York:20260419T160000
DTSTAMP:20260425T124048
CREATED:20260317T214132Z
LAST-MODIFIED:20260317T214132Z
UID:3522-1776506400-1776614400@hqgsaugus.org
SUMMARY:Narragansett Bay Quilters' Association Fiftieth Anniversary Quilt Show
DESCRIPTION:Golden Threads Quilt Show – Celebrating 50 Years of Craftsmanship\n \nHosted by the Narragansett Bay Quilters Association\, the Golden Threads Quilt Show marks our 50th anniversary with a vibrant showcase of quilts handcrafted by guild members. Join us for a weekend filled with creativity\, community\, and celebration! \nHighlights include: \n\n Local vendors offering quilting supplies and handmade goods\n Door prizes and themed raffle baskets\n A stunning raffle quilt\n Live demonstrations throughout the day\n Delicious offerings from local food trucks\n A silent auction of quilted items benefiting the New England Quilt Museum in Lowell\, MA (auction closes Sunday at 1 PM)\n\n Event Dates:\nSaturday & Sunday\, April 18–19\, 2026\n Show Hours:\n10 AM – 4 PM both days \n Location:\nWest Warwick Civic Center – Thomas A. Lamb Memorial Fieldhouse\n100 Factory Rd.\, West Warwick\, RI 02893 \n Admission: \n\n$10 for both days\nFree for children under 12 (with a paying adult)\nNBQA members enjoy free admission\nFree parking available\nVenue is fully handicap accessible\n\nOur contact information is nbqamail@gmail.com
URL:https://hqgsaugus.org/index.php/event/narragansett-bay-quilters-association-fiftieth-anniversary-quilt-show/
LOCATION:West Warwick Civic Center\, 100 Factory Street\, West Warwick\, RI\, United States
END:VEVENT
BEGIN:VEVENT
DTSTART;TZID=America/New_York:20260520T180000
DTEND;TZID=America/New_York:20260520T190000
DTSTAMP:20260425T124048
CREATED:20251130T183045Z
LAST-MODIFIED:20251130T183045Z
UID:3360-1779300000-1779303600@hqgsaugus.org
SUMMARY:May 2026 Executive Board Meeting
DESCRIPTION:The Guild’s Executive Board meets by zoom.  Any member can attend the board meeting.  Please ask a member of the Executive Board for the zoom link.
URL:https://hqgsaugus.org/index.php/event/may-2026-executive-board-meeting/
LOCATION:Zoom
END:VEVENT
BEGIN:VEVENT
DTSTART;TZID=America/New_York:20260617T180000
DTEND;TZID=America/New_York:20260617T190000
DTSTAMP:20260425T124048
CREATED:20251130T183149Z
LAST-MODIFIED:20251130T183149Z
UID:3362-1781719200-1781722800@hqgsaugus.org
SUMMARY:June 2026 Executive Board Meeting
DESCRIPTION:The Guild’s Executive Board meets by zoom.  Any member can attend the board meeting.  Please ask a member of the Executive Board for the zoom link.
URL:https://hqgsaugus.org/index.php/event/june-2026-executive-board-meeting/
LOCATION:Zoom
END:VEVENT
END:VCALENDAR