BEGIN:VCALENDAR
VERSION:2.0
PRODID:-//Hammersmith Quilters Guild - ECPv6.15.20//NONSGML v1.0//EN
CALSCALE:GREGORIAN
METHOD:PUBLISH
X-WR-CALNAME:Hammersmith Quilters Guild
X-ORIGINAL-URL:https://hqgsaugus.org
X-WR-CALDESC:Events for Hammersmith Quilters Guild
REFRESH-INTERVAL;VALUE=DURATION:PT1H
X-Robots-Tag:noindex
X-PUBLISHED-TTL:PT1H
BEGIN:VTIMEZONE
TZID:UTC
BEGIN:STANDARD
TZOFFSETFROM:+0000
TZOFFSETTO:+0000
TZNAME:UTC
DTSTART:20240101T000000
END:STANDARD
END:VTIMEZONE
BEGIN:VTIMEZONE
TZID:America/New_York
BEGIN:DAYLIGHT
TZOFFSETFROM:-0500
TZOFFSETTO:-0400
TZNAME:EDT
DTSTART:20240310T070000
END:DAYLIGHT
BEGIN:STANDARD
TZOFFSETFROM:-0400
TZOFFSETTO:-0500
TZNAME:EST
DTSTART:20241103T060000
END:STANDARD
BEGIN:DAYLIGHT
TZOFFSETFROM:-0500
TZOFFSETTO:-0400
TZNAME:EDT
DTSTART:20250309T070000
END:DAYLIGHT
BEGIN:STANDARD
TZOFFSETFROM:-0400
TZOFFSETTO:-0500
TZNAME:EST
DTSTART:20251102T060000
END:STANDARD
BEGIN:DAYLIGHT
TZOFFSETFROM:-0500
TZOFFSETTO:-0400
TZNAME:EDT
DTSTART:20260308T070000
END:DAYLIGHT
BEGIN:STANDARD
TZOFFSETFROM:-0400
TZOFFSETTO:-0500
TZNAME:EST
DTSTART:20261101T060000
END:STANDARD
BEGIN:DAYLIGHT
TZOFFSETFROM:-0500
TZOFFSETTO:-0400
TZNAME:EDT
DTSTART:20270314T070000
END:DAYLIGHT
BEGIN:STANDARD
TZOFFSETFROM:-0400
TZOFFSETTO:-0500
TZNAME:EST
DTSTART:20271107T060000
END:STANDARD
END:VTIMEZONE
BEGIN:VEVENT
DTSTART;VALUE=DATE:20250506
DTEND;VALUE=DATE:20250810
DTSTAMP:20260425T121538
CREATED:20250703T193221Z
LAST-MODIFIED:20250703T194255Z
UID:2994-1746489600-1754783999@hqgsaugus.org
SUMMARY:NEQM:  Quilts Japan - The 17th Quilt Nihon Exhibition
DESCRIPTION:From the NEQM Website:  “The NEQM proudly presents an exhibition of award-winning quilts and textile arts from some of world’s most accomplished artists in Quilts Japan: The 17th Quilt Nihon. \nFor more than a decade\, the New England Quilt Museum has been the exclusive Northeast host for this celebrated exhibition\, which premieres at the Tokyo Metropolitan Art Museum before traveling internationally. It features some of the most extraordinary and innovative works from the biennial competition of the Japanese Handicraft Instructors’ Association (JHIA)\, which sponsors the largest international quilt contest in Japan and one of the most prestigious in the world. This year’s Quilt Nihon Exhibition features 53 award-winning and notable works\, including 18 entries from the competition’s newest category–miniature quilts.”
URL:https://hqgsaugus.org/index.php/event/quilts-japan-the-17th-quilt-nihon-exhibition/
LOCATION:New England Quilt Museum\, 18 Shattuck St\, Lowell\, MA\, 01852\, United States
END:VEVENT
BEGIN:VEVENT
DTSTART;TZID=America/New_York:20250521T183000
DTEND;TZID=America/New_York:20250521T193000
DTSTAMP:20260425T121538
CREATED:20240823T151216Z
LAST-MODIFIED:20240823T151216Z
UID:2258-1747852200-1747855800@hqgsaugus.org
SUMMARY:May 2025 Executive Board Meeting
DESCRIPTION:The Guild’s Executive Board meets monthly to discuss Guild business.  All members are invited.  If the meeting is by zoom\, contact any member of the executive board for the link.
URL:https://hqgsaugus.org/index.php/event/may-2025-executive-board-meeting/
LOCATION:Zoom
END:VEVENT
BEGIN:VEVENT
DTSTART;TZID=America/New_York:20250604T190000
DTEND;TZID=America/New_York:20250604T203000
DTSTAMP:20260425T121538
CREATED:20240823T153929Z
LAST-MODIFIED:20240823T153929Z
UID:2279-1749063600-1749069000@hqgsaugus.org
SUMMARY:June 2025 General Membership Meeting
DESCRIPTION:Annual Ice Cream Social \nShow & Tell: Yes \nFree Table: Yes \nCreative Quilt Works:TBD \nFat Quarter (FQ) Drawing: Bring a fat quarter in the designated color or theme. For each FQ you bring\, your name goes into a drawing. You could win a whole bundle of fat quarters! The color for is floral. Remember: a fat quarter of fabric measures 18” x 22”. \n3/$1 Raffle: Buy 3 tickets for $1 and you are entered into a raffle for notions or other quilting things. The more tickets you buy\, the more chances to win! \nName Badge: Wear your Guild name badge and enter a drawing for a prize. This is to encourage everyone to wear their name badge so we get to know who you are! New members received a printout of the directions when you joined as part of your tote bag welcome pack; the directions can also be found on our website www.hqgsaugus.org under Member Information. \nAll drawings and raffles are optional; you do not need to participate at all\, or you can pick the ones that interest you!
URL:https://hqgsaugus.org/index.php/event/june-2025-general-membership-meeting/
LOCATION:Saugus Senior Center\, 466 Central St\, Saugus\, MA\, 01906\, United States
END:VEVENT
BEGIN:VEVENT
DTSTART;TZID=America/New_York:20250618T183000
DTEND;TZID=America/New_York:20250618T193000
DTSTAMP:20260425T121538
CREATED:20240823T151345Z
LAST-MODIFIED:20240823T151345Z
UID:2260-1750271400-1750275000@hqgsaugus.org
SUMMARY:June 2025 Executive Board Meeting
DESCRIPTION:The Guild’s Executive Board meets monthly to discuss Guild business.  All members are invited.  If the meeting is by zoom\, contact any member of the executive board for the link.
URL:https://hqgsaugus.org/index.php/event/june-2025-executive-board-meeting/
LOCATION:Zoom
END:VEVENT
BEGIN:VEVENT
DTSTART;VALUE=DATE:20250624
DTEND;VALUE=DATE:20250921
DTSTAMP:20260425T121538
CREATED:20250703T194226Z
LAST-MODIFIED:20250703T194226Z
UID:2996-1750723200-1758412799@hqgsaugus.org
SUMMARY:NEQM:  Pat Pauly --  Unfolding Years
DESCRIPTION:From the NEQM website:  “The NEQM is pleased to feature works by Pat Pauly\, whose fiber art exudes a graphic\, color-saturated palette using her own hand printed fabric. Featured in major exhibitions and found internationally in public and private collections\, Pauly’s work is distinctive for its strong abstraction of natural forms and complex color combinations. With a degree in art and graduate studies in design and fine art\, Pauly embraced fiber art as her medium in the early 1980s ‘as the perfect amalgam of construction\, painting and printmaking.’ ” \n  \nSaturday\, August 23\, 2025 at 11 AM \nJoin us in welcoming Pat Pauly to the NEQM for an artist’s talk in her exhibition\, Unfolding Years.
URL:https://hqgsaugus.org/index.php/event/neqm-pat-pauly-unfolding-years/
LOCATION:New England Quilt Museum\, 18 Shattuck St\, Lowell\, MA\, 01852\, United States
END:VEVENT
BEGIN:VEVENT
DTSTART;TZID=America/New_York:20250709T190000
DTEND;TZID=America/New_York:20250709T203000
DTSTAMP:20260425T121538
CREATED:20250615T162152Z
LAST-MODIFIED:20250615T162152Z
UID:2974-1752087600-1752093000@hqgsaugus.org
SUMMARY:Sit N Sew
DESCRIPTION:An informal get together to socialize and do some light sewing\, sandwiching quilts\, etc.
URL:https://hqgsaugus.org/index.php/event/sit-n-sew/
LOCATION:Saugus Senior Center\, 466 Central St\, Saugus\, MA\, 01906\, United States
END:VEVENT
BEGIN:VEVENT
DTSTART;TZID=UTC:20250806T190000
DTEND;TZID=UTC:20250806T203000
DTSTAMP:20260425T121538
CREATED:20250615T162312Z
LAST-MODIFIED:20250615T162312Z
UID:2976-1754506800-1754512200@hqgsaugus.org
SUMMARY:Sit N Sew
DESCRIPTION:An informal get together to socialize and do some light sewing\, sandwiching quilts\, etc.
URL:https://hqgsaugus.org/index.php/event/sit-n-sew-2/
LOCATION:Saugus Senior Center\, 466 Central St\, Saugus\, MA\, 01906\, United States
END:VEVENT
BEGIN:VEVENT
DTSTART;VALUE=DATE:20250812
DTEND;VALUE=DATE:20250907
DTSTAMP:20260425T121538
CREATED:20250703T203027Z
LAST-MODIFIED:20250703T203027Z
UID:3000-1754956800-1757203199@hqgsaugus.org
SUMMARY:NEQM:  The Best of the Region’s Quilt Guilds
DESCRIPTION:As a reminder\, our guild’s member submission to this exhibition is Gail Dwyer’s quilt.  Go see her quilt and other guilds quilts this summer.
URL:https://hqgsaugus.org/index.php/event/neqm-the-best-of-the-regions-quilt-guilds/
LOCATION:New England Quilt Museum\, 18 Shattuck St\, Lowell\, MA\, 01852\, United States
END:VEVENT
BEGIN:VEVENT
DTSTART;VALUE=DATE:20250812
DTEND;VALUE=DATE:20250907
DTSTAMP:20260425T121538
CREATED:20250806T202938Z
LAST-MODIFIED:20250806T202938Z
UID:3028-1754956800-1757203199@hqgsaugus.org
SUMMARY:Light and Movement - NEQM
DESCRIPTION:From the New England Quilt Museum Website\n\n\n\n\n\n\n\n\n\n\n“Works by Marianne R. Williamson\nAugust 12 to September 6\, 2025 \n“Life is always changing in one way or another\, and the world around me is always moving\, swaying in the breeze\, or changed by light.” — Marianne R. Williamson \nLight and movement have been recurring themes in Williamson’s work for nearly 45 years since she embraced textiles as her artistic medium. A classical education in art from L’Ecole des Beaux Arts in Geneva\, Switzerland provided a solid foundation for the painterly qualities of her distinctive scenes of sunlit gardens\, windswept landscapes\, ripples on water and ocean waves. \nWilliamson’s work reflects a life dedicated to art and a mastery of diverse fiber art techniques. She ice dyes her cottons and silks\, and applies hand-painted details\, raw edge appliqué\, layered textiles and free motion quilting. When viewed at a distance\, Williamson’s art quilts are easily mistaken for paintings\, a characteristic that has earned her national recognition\, numerous awards and countless admirers.”
URL:https://hqgsaugus.org/index.php/event/light-and-movement-neqm/
LOCATION:New England Quilt Museum\, 18 Shattuck St\, Lowell\, MA\, 01852\, United States
END:VEVENT
BEGIN:VEVENT
DTSTART;TZID=America/New_York:20250820T180000
DTEND;TZID=America/New_York:20250820T190000
DTSTAMP:20260425T121538
CREATED:20250703T203819Z
LAST-MODIFIED:20250703T203819Z
UID:3008-1755712800-1755716400@hqgsaugus.org
SUMMARY:August Executive Board Meeting
DESCRIPTION:The Guild’s Executive Board meets monthly to discuss Guild business.  All members are invited.  If the meeting is by zoom\, contact any member of the executive board for the link.
URL:https://hqgsaugus.org/index.php/event/august-executive-board-meeting-2/
LOCATION:Zoom
END:VEVENT
BEGIN:VEVENT
DTSTART;TZID=America/New_York:20250827T110000
DTEND;TZID=America/New_York:20250827T120000
DTSTAMP:20260425T121538
CREATED:20250806T203332Z
LAST-MODIFIED:20250806T203332Z
UID:3031-1756292400-1756296000@hqgsaugus.org
SUMMARY:Film Screening and Conversation with the Director
DESCRIPTION:From the NEQM Website \n“Film Screening and Conversation with the Director\n\n\n\n\n\n\n\n\nThe Quilters\, 2024 Award Winning Documentary \nThe Quilters (2024)\, directed by Jenifer McShane\, follows the daily lives of several quilters inside the sewing room at South Central Correctional Center\, a Level 5 maximum security prison in a small town in Missouri. In tracking several quilts from design to completion\, audiences come to know these men\, witnessing their struggles\, triumphs\, and sense of pride as they create something beautiful in this windowless sacred space\, deep within the prison walls. \nThe 32-minute film was recently shortlisted for the Documentary Short Film category for the 97th Academy Awards. \nThis public program is free to all.”
URL:https://hqgsaugus.org/index.php/event/film-screening-and-conversation-with-the-director/
LOCATION:New England Quilt Museum\, 18 Shattuck St\, Lowell\, MA\, 01852\, United States
END:VEVENT
BEGIN:VEVENT
DTSTART;TZID=America/New_York:20250903T190000
DTEND;TZID=America/New_York:20250903T203000
DTSTAMP:20260425T121538
CREATED:20250615T162817Z
LAST-MODIFIED:20250615T162841Z
UID:2978-1756926000-1756931400@hqgsaugus.org
SUMMARY:September 2025 General Membership Meeting
DESCRIPTION:Speaker –Susan Michael of Dragonfly Fiber Art \nShow & Tell:No \nFree Table: Yes \nCreative Quilt Works: TBD \nFat Quarter (FQ) Drawing: Bring a fat quarter in the designated color or theme. For each FQ you bring\, your name goes into a drawing. You could win a whole bundle of fat quarters! The color for is Novelty prints. Remember: a fat quarter of fabric measures 18” x 22”. \n3/$1 Raffle: Buy 3 tickets for $1 and you are entered into a raffle for notions or other quilting things. The more tickets you buy\, the more chances to win! \nName Badge: Wear your Guild name badge and enter a drawing for a prize. This is to encourage everyone to wear their name badge so we get to know who you are! New members received a printout of the directions when you joined as part of your tote bag welcome pack; the directions can also be found on our website www.hqgsaugus.org under Member Information. \nAll drawings and raffles are optional; you do not need to participate at all\, or you can pick the ones that interest you!
URL:https://hqgsaugus.org/index.php/event/september-2025-general-membership-meeting/
LOCATION:Saugus Senior Center\, 466 Central St\, Saugus\, MA\, 01906\, United States
END:VEVENT
BEGIN:VEVENT
DTSTART;VALUE=DATE:20250909
DTEND;VALUE=DATE:20260101
DTSTAMP:20260425T121538
CREATED:20250928T225057Z
LAST-MODIFIED:20250928T225057Z
UID:3103-1757376000-1767225599@hqgsaugus.org
SUMMARY:NEQM - A Walk in the Woods
DESCRIPTION:A Walk in the Woods\n\nfrom the NEQM Website:\n\n\n\n\n\n\n\n\n\nQuilt Artists Respond to Nature\nSeptember 9 through December 31\, 2025 \n\n\n\n\n\n\n\n\n\nNEQM Curator\, Pamela Weeks\, has selected twenty diverse works from eight renowned American quilt artists for this exhibition. A Walk in the Woods is much more than a showcase of its artists’ remarkable interpretations of the natural world. It is a poignant reminder of nature’s extraordinary ability to restore and transform us. \nComplementing its theme\, exhibitions from artists Salley Mavor and Susan Kapuscinski Gaylord are featured in adjoining galleries.
URL:https://hqgsaugus.org/index.php/event/neqm-a-walk-in-the-woods/
LOCATION:New England Quilt Museum\, 18 Shattuck St\, Lowell\, MA\, 01852\, United States
END:VEVENT
BEGIN:VEVENT
DTSTART;VALUE=DATE:20250909
DTEND;VALUE=DATE:20260101
DTSTAMP:20260425T121538
CREATED:20250928T225402Z
LAST-MODIFIED:20250928T225402Z
UID:3105-1757376000-1767225599@hqgsaugus.org
SUMMARY:NEQM - To Every Season
DESCRIPTION:from the NEQM website: \nTo Every Season\n\n\n\n\n\n\n\n\n\n\n\nWorks by Salley Mavor\nSeptember 9 through December 31\, 2025 \n\n\n\n\n\n\n\n\n\n“My aim is to create universal and playful narratives that offer people of all ages a way to experience the brilliance of nature.” \n–Salley Mavor\n\nThis exhibition is a unique opportunity to take in the exceptional detail and 3-dimentional quality of Salley Mavor’s bas-relief embroideries. It consists of a wide selection of seasonal landscapes that capture the wonder and magic of the natural world. Rarely seen early works on loan from private collections are included\, as well as recent pieces\, including her Four Seasons series. \nThe award-winning artist has spent four decades developing her signature style and working methods\, carving out her own niche within the children’s book world and the fiber art community. Seeing her artwork up close is like being immersed in an enchanting miniature world full of characters\, props\, and scenery\, all created by hand with stitching\, fabric\, beads\, wire\, and found objects. \nOn view are framed tableaus\, original picture book illustrations\, and sculptural objects from the past 40 years\, including dioramas inhabited by wee folk characters set up in display cases.
URL:https://hqgsaugus.org/index.php/event/neqm-to-every-season/
LOCATION:New England Quilt Museum\, 18 Shattuck St\, Lowell\, MA\, 01852\, United States
END:VEVENT
BEGIN:VEVENT
DTSTART;VALUE=DATE:20250909
DTEND;VALUE=DATE:20260101
DTSTAMP:20260425T121538
CREATED:20250928T225631Z
LAST-MODIFIED:20250928T225631Z
UID:3107-1757376000-1767225599@hqgsaugus.org
SUMMARY:NEQM - The Spirit Books
DESCRIPTION:from the NEQM website: \nThe Spirit Books\n\n\n\n\n\n\n\n\n\n\n\nWorks by Susan Kapuscinski Gaylord\nOn view September 9 through December 31\, 2025 \n\n\n\n\n\n\n\n\n\n“The Spirit Books merge my response to the mystery and miracle of nature with the long-standing tradition of books as testaments of faith and belief. Working with handmade papers\, natural materials\, beads\, and stitching\, I create contemplative objects that straddle the boundary between sculpture and book. The Spirit Books remind us of what is at stake in today’s world. Acknowledging the strength and the fragility of nature\, they are both celebration and reflection.” \n–Susan Kapuscinski Gaylord\nA visual artist since the late 1970s\, Susan Kapuscinski Gaylord’s most recent works include handmade books\, calligraphy\, digital compositions\, and the series of Spirit Books which are the focus of her NEQM exhibition. This evocative and meditative installation invites viewers to slow down\, engage deeply with the art and appreciate quiet contemplation. \nGaylord’s work is in the library collections of the Museum of Modern Art\, the University of Arizona\, Wellesley College and Yale University. She has been featured in solo and group exhibitions in museums and galleries throughout the United States and in Canada and Korea.
URL:https://hqgsaugus.org/index.php/event/neqm-the-spirit-books/
LOCATION:New England Quilt Museum\, 18 Shattuck St\, Lowell\, MA\, 01852\, United States
END:VEVENT
BEGIN:VEVENT
DTSTART;VALUE=DATE:20250913
DTEND;VALUE=DATE:20250915
DTSTAMP:20260425T121538
CREATED:20250806T204328Z
LAST-MODIFIED:20250806T204328Z
UID:2991-1757721600-1757894399@hqgsaugus.org
SUMMARY:Benninton Quiltfest
DESCRIPTION:
URL:https://hqgsaugus.org/index.php/event/benninton-quiltfest/
LOCATION:Mount Antony Union Middle School\, 747 East Road\, Bennington\, VT\, United States
END:VEVENT
BEGIN:VEVENT
DTSTART;TZID=America/New_York:20250920T100000
DTEND;TZID=America/New_York:20250921T160000
DTSTAMP:20260425T121538
CREATED:20250329T160839Z
LAST-MODIFIED:20250329T160839Z
UID:2782-1758362400-1758470400@hqgsaugus.org
SUMMARY:Starry\, Starry Night Quilt Show
DESCRIPTION:
URL:https://hqgsaugus.org/index.php/event/starry-starry-night-quilt-show/
LOCATION:Benjamin Friedman Middle School\, 500 Norton Ave\, Taunton\, MA\, 02780\, United States
END:VEVENT
BEGIN:VEVENT
DTSTART;TZID=America/New_York:20250924T064500
DTEND;TZID=America/New_York:20250924T203000
DTSTAMP:20260425T121538
CREATED:20250703T203929Z
LAST-MODIFIED:20250915T124600Z
UID:3010-1758696300-1758745800@hqgsaugus.org
SUMMARY:September Executive Board Meeting- zoom
DESCRIPTION:The Guild’s Executive Board meets monthly to discuss Guild business.  All members are invited.  If the meeting is by zoom\, contact any member of the executive board for the link.
URL:https://hqgsaugus.org/index.php/event/september-executive-board-meeting-3/
LOCATION:Zoom
END:VEVENT
BEGIN:VEVENT
DTSTART;TZID=America/New_York:20251001T190000
DTEND;TZID=America/New_York:20251001T203000
DTSTAMP:20260425T121538
CREATED:20250703T203148Z
LAST-MODIFIED:20250703T203148Z
UID:3002-1759345200-1759350600@hqgsaugus.org
SUMMARY:October General Membership Meeting
DESCRIPTION:
URL:https://hqgsaugus.org/index.php/event/october-general-membership-meeting/
LOCATION:Saugus Senior Center\, 466 Central St\, Saugus\, MA\, 01906\, United States
END:VEVENT
BEGIN:VEVENT
DTSTART;TZID=America/New_York:20251015T180000
DTEND;TZID=America/New_York:20251015T190000
DTSTAMP:20260425T121538
CREATED:20250703T204048Z
LAST-MODIFIED:20250703T204048Z
UID:3012-1760551200-1760554800@hqgsaugus.org
SUMMARY:October Executive Board Meeting
DESCRIPTION:The Guild’s Executive Board meets monthly to discuss Guild business.  All members are invited.  If the meeting is by zoom\, contact any member of the executive board for the link.
URL:https://hqgsaugus.org/index.php/event/october-executive-board-meeting-2/
LOCATION:Zoom
END:VEVENT
BEGIN:VEVENT
DTSTART;VALUE=DATE:20251030
DTEND;VALUE=DATE:20260105
DTSTAMP:20260425T121538
CREATED:20251030T201246Z
LAST-MODIFIED:20251030T201246Z
UID:3138-1761782400-1767571199@hqgsaugus.org
SUMMARY:Quilts=ARTS=QUILTS
DESCRIPTION:Schweinfurth to open renowned\nart quilt exhibition on Oct. 25 \nSchweinfurth Art Center will be opening a new exhibitions on Saturday\, Oct. 25\, 2025\, including its 43rd annual “Quilts=Art=Quilts” exhibition \nThe exhibitions will run through Jan. 4\, 2026. The Schweinfurth is open 10 a.m. to 5 p.m. Wednesdays through Saturdays and 1 to 5 p.m. Sundays. The art center will be closing at 2 p.m. on Nov. 26 and closed Nov. 27\, Dec. 24 and 25\, and Jan. 1. \nFor more information about the exhibitions and other events and classes\, please visit the Schweinfurth’s website at myartcenter.org.
URL:https://hqgsaugus.org/index.php/event/quiltsartsquilts/
LOCATION:Schweinfurth Art Center\, 205 Genesee St.\, Auburn\, NY\, 13021\, United States
END:VEVENT
BEGIN:VEVENT
DTSTART;TZID=America/New_York:20251106T190000
DTEND;TZID=America/New_York:20251106T203000
DTSTAMP:20260425T121538
CREATED:20250703T203318Z
LAST-MODIFIED:20251004T174042Z
UID:3004-1762455600-1762461000@hqgsaugus.org
SUMMARY:November General Membership Meeting
DESCRIPTION:Beverly Cook will conduct a Fabric Art Demonstration at the November meeting.  To learn more about her and her art work go to https://lynnfieldarts.org/beverly-cook/.
URL:https://hqgsaugus.org/index.php/event/november-general-membership-meeting/
LOCATION:Saugus Senior Center\, 466 Central St\, Saugus\, MA\, 01906\, United States
END:VEVENT
BEGIN:VEVENT
DTSTART;TZID=America/New_York:20251108T100000
DTEND;TZID=America/New_York:20251109T150000
DTSTAMP:20260425T121538
CREATED:20241124T161619Z
LAST-MODIFIED:20241124T161744Z
UID:2486-1762596000-1762700400@hqgsaugus.org
SUMMARY:2025 Hammersmith Qulters Guild Quilt Show
DESCRIPTION:The Hammersmith Quilters Guild will present it biennial quilt show themed Homespun Harvest on November 8 and 9 at the Saugus Senior Center
URL:https://hqgsaugus.org/index.php/event/2025-hammersmith-qulters-guild-quilt-show/
LOCATION:Saugus Senior Center\, 466 Central St\, Saugus\, MA\, 01906\, United States
END:VEVENT
BEGIN:VEVENT
DTSTART;TZID=America/New_York:20251119T180000
DTEND;TZID=America/New_York:20251119T190000
DTSTAMP:20260425T121538
CREATED:20250703T204152Z
LAST-MODIFIED:20250703T204152Z
UID:3014-1763575200-1763578800@hqgsaugus.org
SUMMARY:November Executive Board Meeting
DESCRIPTION:The Guild’s Executive Board meets monthly to discuss Guild business.  All members are invited.  If the meeting is by zoom\, contact any member of the executive board for the link.
URL:https://hqgsaugus.org/index.php/event/november-executive-board-meeting-2/
LOCATION:Zoom
END:VEVENT
BEGIN:VEVENT
DTSTART;TZID=America/New_York:20251203T190000
DTEND;TZID=America/New_York:20251203T203000
DTSTAMP:20260425T121538
CREATED:20250703T203630Z
LAST-MODIFIED:20251113T225243Z
UID:3006-1764788400-1764793800@hqgsaugus.org
SUMMARY:December General Membership Meeting
DESCRIPTION:
URL:https://hqgsaugus.org/index.php/event/december-general-membership-meeting/
LOCATION:Saugus Senior Center\, 466 Central St\, Saugus\, MA\, 01906\, United States
END:VEVENT
BEGIN:VEVENT
DTSTART;TZID=America/New_York:20251217T180000
DTEND;TZID=America/New_York:20251217T190000
DTSTAMP:20260425T121538
CREATED:20250703T204251Z
LAST-MODIFIED:20250703T204251Z
UID:3016-1765994400-1765998000@hqgsaugus.org
SUMMARY:December Executive Board Meeting
DESCRIPTION:The Guild’s Executive Board meets monthly to discuss Guild business.  All members are invited.  If the meeting is by zoom\, contact any member of the executive board for the link.
URL:https://hqgsaugus.org/index.php/event/december-executive-board-meeting-2/
LOCATION:Zoom
END:VEVENT
BEGIN:VEVENT
DTSTART;TZID=America/New_York:20260107T190000
DTEND;TZID=America/New_York:20260107T203000
DTSTAMP:20260425T121538
CREATED:20251130T180508Z
LAST-MODIFIED:20251209T215824Z
UID:3344-1767812400-1767817800@hqgsaugus.org
SUMMARY:January 2026 General Membership Meeting
DESCRIPTION:Kristin Callahan\, a member of our guild\,  will be a trunk show and sharing information about what your longarm quilter wants from you.
URL:https://hqgsaugus.org/index.php/event/january-general-membership-meeting/
LOCATION:Saugus Senior Center\, 466 Central St\, Saugus\, MA\, 01906\, United States
END:VEVENT
BEGIN:VEVENT
DTSTART;VALUE=DATE:20260113
DTEND;VALUE=DATE:20260412
DTSTAMP:20260425T121538
CREATED:20260214T152642Z
LAST-MODIFIED:20260214T152642Z
UID:3445-1768262400-1775951999@hqgsaugus.org
SUMMARY:NEQM:  Blue on Blue: Quilts from 1825 to 2025
DESCRIPTION:From the New England Quilt Museum Website: \nBlue holds a unique place in our human consciousness. It is an elusive color\, rarely found in nature\, and yet universally associated with the sky and the sea. In our imaginations and the art we create\, it manifests as wide horizons and starry nights\, peaceful waters and powerful waves\, the royal and the divine. \nThe quilts selected for this exhibition by NEQM Curator\, Pamela Weeks\, span 200 years and range from exceptional antique quilts to cutting-edge contemporary works. They not only illustrate a diverse range of techniques and styles\, but also display an extravagant variety of blue textiles–deep indigo\, Prussian blue\, turquoise\, cobalt and cornflower\, to name just a few. The works are complemented by informative curatorial research on the intriguing\, lesser-known\, and often brutal\, history of this captivating color.
URL:https://hqgsaugus.org/index.php/event/neqm-blue-on-blue-quilts-from-1825-to-2025/
LOCATION:New England Quilt Museum\, 18 Shattuck St\, Lowell\, MA\, 01852\, United States
END:VEVENT
BEGIN:VEVENT
DTSTART;TZID=America/New_York:20260121T180000
DTEND;TZID=America/New_York:20260121T190000
DTSTAMP:20260425T121538
CREATED:20251130T182529Z
LAST-MODIFIED:20251130T182529Z
UID:3352-1769018400-1769022000@hqgsaugus.org
SUMMARY:January Executive Board Meeting
DESCRIPTION:The Guild’s Executive Board meets by zoom.  Any member can attend the board meeting.  Please ask a member of the Executive Board for the zoom link.
URL:https://hqgsaugus.org/index.php/event/january-executive-board-meeting-2/
LOCATION:Zoom
END:VEVENT
BEGIN:VEVENT
DTSTART;TZID=America/New_York:20260204T190000
DTEND;TZID=America/New_York:20260204T203000
DTSTAMP:20260425T121538
CREATED:20251130T184252Z
LAST-MODIFIED:20260204T005655Z
UID:3364-1770231600-1770237000@hqgsaugus.org
SUMMARY:February 2026 General Membership Meeting
DESCRIPTION:Welcome to February! We are in a transition regarding the Newsletter. As Secretary\,\nKristin Callahan will be taking over the publication\, but in the meantime\, here is what\nyou need to know for our meeting this week\, and going forward a complete Newsletter\nwill be published by the 15th of every month. \nThe multitalented Debby Young will be our speaker tomorrow night.\nShe crochets famous people\, works with wool applique\, makes and is always willing to\ntry a new craft!\nFat Quarters: Bring your STRIPES from last month\, and bring your POLKA DOTS\nfor tomorrow. There will be a show & tell.\nRefreshments: Thank you to everyone who responded to Jeans request.\nAQS Bus trip; Saturday\, April 11th: Filling up fast!\nPlease bring deposit/or full amount to the meeting\, made out to Hammersmith Quilt\nGuild\n($20.00 / $37.00 or $47.00\, non-member)\nMarch WORKSHOP: Quilt jacket class is almost full – ONE spot left! Please let\nGail Dwyer know if you want to join. Kenlyn can do another workshop in the\nfuture if there is more interest.\nSaturday\, March 7th ~ $25.00\n10:00- 4:00 PM\nRemember you will need a finished (or unbound) quilt size 60x 80\n(smaller for a vest)\nLight Lunch Provided\nFun day with our own Kenlyn Jones. Note: Kenlyn will be presenting the technique as\nour March Speaker.\nA complete list of class requirements will be provided.\nNOTE: Our speaker for our cancelled January meeting: Kristin Callahan’s lecture has\nbeen rescheduled to the May meeting.\nCall/text/email Gail Dwyer for\nfurther details on any of the above\nThat’s all for today. See you tomorrow night. Any questions\, call Nancy
URL:https://hqgsaugus.org/index.php/event/february-general-membership-meeting/
LOCATION:Saugus Senior Center\, 466 Central St\, Saugus\, MA\, 01906\, United States
END:VEVENT
END:VCALENDAR