BEGIN:VCALENDAR
VERSION:2.0
PRODID:-//Hammersmith Quilters Guild - ECPv6.15.20//NONSGML v1.0//EN
CALSCALE:GREGORIAN
METHOD:PUBLISH
X-ORIGINAL-URL:https://hqgsaugus.org
X-WR-CALDESC:Events for Hammersmith Quilters Guild
REFRESH-INTERVAL;VALUE=DURATION:PT1H
X-Robots-Tag:noindex
X-PUBLISHED-TTL:PT1H
BEGIN:VTIMEZONE
TZID:UTC
BEGIN:STANDARD
TZOFFSETFROM:+0000
TZOFFSETTO:+0000
TZNAME:UTC
DTSTART:20240101T000000
END:STANDARD
END:VTIMEZONE
BEGIN:VEVENT
DTSTART;VALUE=DATE:20250405
DTEND;VALUE=DATE:20250504
DTSTAMP:20260425T121252
CREATED:20250405T220124Z
LAST-MODIFIED:20250405T220124Z
UID:2863-1743811200-1746316799@hqgsaugus.org
SUMMARY:A SAQA and Johns Hopkins Wavelengths Global Exhibition
DESCRIPTION:The New England Quilting Museum has a textile exhibition called the Fierce Planets which is a collaboration between Studio Art Quilt Associates and the Johns Hopkins WavelengthsTM public research communication and outreach program. The exhibition is composed of 42 works of art which masterfully explore and capture the science\, the beauty\, and the power of planetary forces and phenomena. To create their works\, fiber artists from eleven countries on six continents drew inspiration from Bloomberg Distinguished Professor Dr. Sabine Stanley’s work in planetary science at Johns Hopkins University\, the Applied Physics Laboratory (APL)\, and NASA\, as well as her recent book\, What’s Hidden Inside Planets?
URL:https://hqgsaugus.org/index.php/event/a-saqa-and-johns-hopkins-wavelengths-global-exhibition/
LOCATION:New England Quilt Museum\, 18 Shattuck St\, Lowell\, MA\, 01852\, United States
END:VEVENT
BEGIN:VEVENT
DTSTART;VALUE=DATE:20250425
DTEND;VALUE=DATE:20250427
DTSTAMP:20260425T121252
CREATED:20250301T152854Z
LAST-MODIFIED:20250301T152854Z
UID:2633-1745539200-1745711999@hqgsaugus.org
SUMMARY:Proper Bostonian Quilters Quilt Show
DESCRIPTION:The Proper Bostonian Quilters invited out members to attend their quilt show on April 25 and 26.  Their invitation and raffle quilt are depicted in the photos.  Admission fee is $10.
URL:https://hqgsaugus.org/index.php/event/proper-bostonian-quilters-quilt-show/
LOCATION:Daughters of St Paul\, 50 St Paul Avenue\, Jamaica Plains\, MA\, United States
END:VEVENT
END:VCALENDAR