BEGIN:VCALENDAR
VERSION:2.0
PRODID:-//Hammersmith Quilters Guild - ECPv6.15.20//NONSGML v1.0//EN
CALSCALE:GREGORIAN
METHOD:PUBLISH
X-ORIGINAL-URL:https://hqgsaugus.org
X-WR-CALDESC:Events for Hammersmith Quilters Guild
REFRESH-INTERVAL;VALUE=DURATION:PT1H
X-Robots-Tag:noindex
X-PUBLISHED-TTL:PT1H
BEGIN:VTIMEZONE
TZID:America/New_York
BEGIN:DAYLIGHT
TZOFFSETFROM:-0500
TZOFFSETTO:-0400
TZNAME:EDT
DTSTART:20240310T070000
END:DAYLIGHT
BEGIN:STANDARD
TZOFFSETFROM:-0400
TZOFFSETTO:-0500
TZNAME:EST
DTSTART:20241103T060000
END:STANDARD
BEGIN:DAYLIGHT
TZOFFSETFROM:-0500
TZOFFSETTO:-0400
TZNAME:EDT
DTSTART:20250309T070000
END:DAYLIGHT
BEGIN:STANDARD
TZOFFSETFROM:-0400
TZOFFSETTO:-0500
TZNAME:EST
DTSTART:20251102T060000
END:STANDARD
BEGIN:DAYLIGHT
TZOFFSETFROM:-0500
TZOFFSETTO:-0400
TZNAME:EDT
DTSTART:20260308T070000
END:DAYLIGHT
BEGIN:STANDARD
TZOFFSETFROM:-0400
TZOFFSETTO:-0500
TZNAME:EST
DTSTART:20261101T060000
END:STANDARD
END:VTIMEZONE
BEGIN:VEVENT
DTSTART;TZID=America/New_York:20250402T153000
DTEND;TZID=America/New_York:20250402T183000
DTSTAMP:20260425T121259
CREATED:20240823T162746Z
LAST-MODIFIED:20240823T162746Z
UID:2287-1743607800-1743618600@hqgsaugus.org
SUMMARY:Workshop - Red Work
DESCRIPTION:Sandra Crownauer-Mitra\, whose website is https://www.quiltsbysandra.com/\, is conducting a workshop on incorporating red work into quilts.
URL:https://hqgsaugus.org/index.php/event/workshop-red-work/
LOCATION:Saugus Senior Center\, 466 Central St\, Saugus\, MA\, 01906\, United States
END:VEVENT
BEGIN:VEVENT
DTSTART;TZID=America/New_York:20250402T190000
DTEND;TZID=America/New_York:20250402T203000
DTSTAMP:20260425T121259
CREATED:20240823T153406Z
LAST-MODIFIED:20240823T154322Z
UID:2275-1743620400-1743625800@hqgsaugus.org
SUMMARY:April 2025 General Membership Meeting
DESCRIPTION:Speaker:  Sandra Crownauer-Mitra  \nIncorporating Redwork into Quilting \nShow & Tell: No \nFree Table: Yes \nCreative Quilt Works: TBD \nFat Quarter (FQ) Drawing: Bring a fat quarter in the designated color or theme. For each FQ you bring\, your name goes into a drawing. You could win a whole bundle of fat quarters! The color for is Plaid. Remember: a fat quarter of fabric measures 18” x 22”. \n3/$1 Raffle: Buy 3 tickets for $1 and you are entered into a raffle for notions or other quilting things. The more tickets you buy\, the more chances to win! \nName Badge: Wear your Guild name badge and enter a drawing for a prize. This is to encourage everyone to wear their name badge so we get to know who you are! New members received a printout of the directions when you joined as part of your tote bag welcome pack; the directions can also be found on our website www.hqgsaugus.org under Member Information. \nAll drawings and raffles are optional; you do not need to participate at all\, or you can pick the ones that interest you!
URL:https://hqgsaugus.org/index.php/event/april-2025-general-membership-meeting/
LOCATION:Saugus Senior Center\, 466 Central St\, Saugus\, MA\, 01906\, United States
END:VEVENT
END:VCALENDAR