BEGIN:VCALENDAR
VERSION:2.0
PRODID:-//Hammersmith Quilters Guild - ECPv6.15.20//NONSGML v1.0//EN
CALSCALE:GREGORIAN
METHOD:PUBLISH
X-WR-CALNAME:Hammersmith Quilters Guild
X-ORIGINAL-URL:https://hqgsaugus.org
X-WR-CALDESC:Events for Hammersmith Quilters Guild
REFRESH-INTERVAL;VALUE=DURATION:PT1H
X-Robots-Tag:noindex
X-PUBLISHED-TTL:PT1H
BEGIN:VTIMEZONE
TZID:UTC
BEGIN:STANDARD
TZOFFSETFROM:+0000
TZOFFSETTO:+0000
TZNAME:UTC
DTSTART:20230101T000000
END:STANDARD
END:VTIMEZONE
BEGIN:VEVENT
DTSTART;TZID=UTC:20240917T080000
DTEND;TZID=UTC:20241228T170000
DTSTAMP:20260425T181528
CREATED:20240829T160608Z
LAST-MODIFIED:20240829T160608Z
UID:2311-1726560000-1735405200@hqgsaugus.org
SUMMARY:Political Quilts and Textiles at the NEQM
DESCRIPTION:On view September 17 through December 28\, 2024\nPolitical Quilts and Textiles from the Permanent Collection
URL:https://hqgsaugus.org/index.php/event/political-quilts-and-textiles-at-the-neqm/
LOCATION:New England Quilt Museum\, 18 Shattuck St\, Lowell\, MA\, 01852\, United States
END:VEVENT
BEGIN:VEVENT
DTSTART;VALUE=DATE:20241022
DTEND;VALUE=DATE:20241229
DTSTAMP:20260425T181528
CREATED:20240829T160750Z
LAST-MODIFIED:20240829T160750Z
UID:2313-1729555200-1735430399@hqgsaugus.org
SUMMARY:Go Figure at the NEQM
DESCRIPTION:On view October 22 through December 28\, 2024\nGo Figure: Portraits in Textile Arts\nand\nJoe Cunningham\, In Our Times
URL:https://hqgsaugus.org/index.php/event/go-figure-at-the-neqm/
LOCATION:New England Quilt Museum\, 18 Shattuck St\, Lowell\, MA\, 01852\, United States
END:VEVENT
BEGIN:VEVENT
DTSTART;TZID=UTC:20241218T183000
DTEND;TZID=UTC:20241218T193000
DTSTAMP:20260425T181528
CREATED:20240823T150613Z
LAST-MODIFIED:20240823T150613Z
UID:2248-1734546600-1734550200@hqgsaugus.org
SUMMARY:December 2024 Executive Board Meeting
DESCRIPTION:The Guild’s Executive Board meets monthly to discuss Guild business.  All members are invited.  If the meeting is by zoom\, contact any member of the executive board for the link.
URL:https://hqgsaugus.org/index.php/event/december-2024-executive-board-meeting/
LOCATION:Zoom
END:VEVENT
END:VCALENDAR