BEGIN:VCALENDAR
VERSION:2.0
PRODID:-//Hammersmith Quilters Guild - ECPv6.15.20//NONSGML v1.0//EN
CALSCALE:GREGORIAN
METHOD:PUBLISH
X-ORIGINAL-URL:https://hqgsaugus.org
X-WR-CALDESC:Events for Hammersmith Quilters Guild
REFRESH-INTERVAL;VALUE=DURATION:PT1H
X-Robots-Tag:noindex
X-PUBLISHED-TTL:PT1H
BEGIN:VTIMEZONE
TZID:UTC
BEGIN:STANDARD
TZOFFSETFROM:+0000
TZOFFSETTO:+0000
TZNAME:UTC
DTSTART:20230101T000000
END:STANDARD
END:VTIMEZONE
BEGIN:VEVENT
DTSTART;VALUE=DATE:20240829
DTEND;VALUE=DATE:20241020
DTSTAMP:20260425T212649
CREATED:20240829T160435Z
LAST-MODIFIED:20240829T160435Z
UID:2309-1724889600-1729382399@hqgsaugus.org
SUMMARY:The Electric Needle at the NEQM
DESCRIPTION:On view through October 19\, 2024\nThe Electric Needle: 160 Years of Quilting Innovation
URL:https://hqgsaugus.org/index.php/event/the-electric-needle-at-the-neqm/
LOCATION:New England Quilt Museum\, 18 Shattuck St\, Lowell\, MA\, 01852\, United States
END:VEVENT
BEGIN:VEVENT
DTSTART;VALUE=DATE:20240917
DTEND;VALUE=DATE:20241010
DTSTAMP:20260425T212649
CREATED:20240829T160125Z
LAST-MODIFIED:20240829T160125Z
UID:2305-1726531200-1728518399@hqgsaugus.org
SUMMARY:Bayberry Quilters Special Exhibition at NEQM
DESCRIPTION:Don’t miss the upcoming exhibition from Bayberry Quilters of Cape Cod\, last year’s winner of the Viewer’s Choice\nAward for Summer Celebration of New England Quilts! The NEQM will host this special exhibition in the Genre\nGallery\, September 17 through October 19\, 2024.
URL:https://hqgsaugus.org/index.php/event/bayberry-quilters-special-exhibition-at-neqm/
LOCATION:New England Quilt Museum\, 18 Shattuck St\, Lowell\, MA\, 01852\, United States
END:VEVENT
BEGIN:VEVENT
DTSTART;TZID=UTC:20240917T080000
DTEND;TZID=UTC:20241228T170000
DTSTAMP:20260425T212649
CREATED:20240829T160608Z
LAST-MODIFIED:20240829T160608Z
UID:2311-1726560000-1735405200@hqgsaugus.org
SUMMARY:Political Quilts and Textiles at the NEQM
DESCRIPTION:On view September 17 through December 28\, 2024\nPolitical Quilts and Textiles from the Permanent Collection
URL:https://hqgsaugus.org/index.php/event/political-quilts-and-textiles-at-the-neqm/
LOCATION:New England Quilt Museum\, 18 Shattuck St\, Lowell\, MA\, 01852\, United States
END:VEVENT
END:VCALENDAR